BEGIN:VCALENDAR
VERSION:2.0
PRODID:-//vettix.org//NONSGML v1.0//EN
CALSCALE:GREGORIAN
BEGIN:VEVENT
LOCATION:San Diego Civic Theatre\, 1100 3rd Ave\, San Diego\, CA\, 92101
DESCRIPTION:San Diego Civic Theatre\n1100 3rd Ave\nSan Diego\nCA\n92101\nhttps://www.vettix.org/event/82725
DTSTART:20171220T190000
DTEND:20171220T190000
SUMMARY:Vet Tix Event: The Nutcracker Performed by California Ballet Company - Age Restriction for This Event\, 4 Years and Older
URL;VALUE=URI:https://www.vettix.org/event/82725
DTSTAMP:20260424T132351
UID:69eba7278245c
END:VEVENT
END:VCALENDAR