BEGIN:VCALENDAR
VERSION:2.0
PRODID:-//vettix.org//NONSGML v1.0//EN
CALSCALE:GREGORIAN
BEGIN:VEVENT
LOCATION:Mt. Olympus Theme Park\, 1881 Wisconsin Dells\, Wisconsin Dells\, WI\, 53965
DESCRIPTION:Mt. Olympus Theme Park\n1881 Wisconsin Dells\nWisconsin Dells\nWI\n53965\nhttps://www.vettix.org/event/7111
DTSTART:20130408T100000
DTEND:20130408T100000
SUMMARY:Vet Tix Event: Mt. Olympus Water & Theme Park - All DAY PASSES
URL;VALUE=URI:https://www.vettix.org/event/7111
DTSTAMP:20260423T114618
UID:69ea3eca4a988
END:VEVENT
END:VCALENDAR