BEGIN:VCALENDAR
VERSION:2.0
PRODID:-//vettix.org//NONSGML v1.0//EN
CALSCALE:GREGORIAN
BEGIN:VEVENT
LOCATION:Globe Life Field\, 734 Stadium Dr\, Arlington\, TX\, 76011
DESCRIPTION:Globe Life Field\n734 Stadium Dr\nArlington\nTX\n76011\nhttps://www.vettix.org/event/624304
DTSTART:20260428T190500
DTEND:20260428T190500
SUMMARY:Vet Tix Event: Texas Rangers - MLB vs New York Yankees
URL;VALUE=URI:https://www.vettix.org/event/624304
DTSTAMP:20260425T131910
UID:69ecf78e4b51d
END:VEVENT
END:VCALENDAR