BEGIN:VCALENDAR
VERSION:2.0
PRODID:-//vettix.org//NONSGML v1.0//EN
CALSCALE:GREGORIAN
BEGIN:VEVENT
LOCATION:House of Blues Las Vegas - inside Mandalay Bay Resort Casino\, 3950 South Las Vegas Boulevard\, Las Vegas\, NV\, 89119
DESCRIPTION:House of Blues Las Vegas - inside Mandalay Bay Resort Casino\n3950 South Las Vegas Boulevard\nLas Vegas\nNV\n89119\nhttps://www.vettix.org/event/624041
DTSTART:20260420T210000
DTEND:20260420T210000
SUMMARY:Vet Tix Event: Cirque du Soleil: Michael Jackson ONE
URL;VALUE=URI:https://www.vettix.org/event/624041
DTSTAMP:20260423T114353
UID:69ea3e39aaa12
END:VEVENT
END:VCALENDAR