BEGIN:VCALENDAR
VERSION:2.0
PRODID:-//vettix.org//NONSGML v1.0//EN
CALSCALE:GREGORIAN
BEGIN:VEVENT
LOCATION:T-Mobile Arena\, 3780 South Las Vegas Boulevard\, Las Vegas\, NV\, 89109
DESCRIPTION:T-Mobile Arena\n3780 South Las Vegas Boulevard\nLas Vegas\nNV\n89109\nhttps://www.vettix.org/event/624028
DTSTART:20260419T190000
DTEND:20260419T190000
SUMMARY:Vet Tix Event: Vegas Golden Knights - NHL vs Utah Mammoth
URL;VALUE=URI:https://www.vettix.org/event/624028
DTSTAMP:20260423T114353
UID:69ea3e398d890
END:VEVENT
END:VCALENDAR