BEGIN:VCALENDAR
VERSION:2.0
PRODID:-//vettix.org//NONSGML v1.0//EN
CALSCALE:GREGORIAN
BEGIN:VEVENT
LOCATION:Busch Stadium\, 700 Clark Avenue\, St. Louis\, MO\, 63102
DESCRIPTION:Busch Stadium\n700 Clark Avenue\nSt. Louis\nMO\n63102\nhttps://www.vettix.org/event/621293
DTSTART:20260530T181500
DTEND:20260530T181500
SUMMARY:Vet Tix Event: St. Louis Cardinals - MLB vs Chicago Cubs
URL;VALUE=URI:https://www.vettix.org/event/621293
DTSTAMP:20260425T131910
UID:69ecf78e8dbef
END:VEVENT
END:VCALENDAR