BEGIN:VCALENDAR
VERSION:2.0
PRODID:-//vettix.org//NONSGML v1.0//EN
CALSCALE:GREGORIAN
BEGIN:VEVENT
LOCATION:Wintrust Arena\, 200 East Cermak Road\, Chicago\, IL\, 60616
DESCRIPTION:Wintrust Arena\n200 East Cermak Road\nChicago\nIL\n60616\nhttps://www.vettix.org/event/620770
DTSTART:20260411T170000
DTEND:20260411T170000
SUMMARY:Vet Tix Event: PFL Chicago
URL;VALUE=URI:https://www.vettix.org/event/620770
DTSTAMP:20260424T130904
UID:69eba3b0c8cae
END:VEVENT
END:VCALENDAR