BEGIN:VCALENDAR
VERSION:2.0
PRODID:-//vettix.org//NONSGML v1.0//EN
CALSCALE:GREGORIAN
BEGIN:VEVENT
LOCATION:Broadmoor World Arena\, 3185 Venetucci Blvd\, Colorado Springs\, CO\, 80906
DESCRIPTION:Broadmoor World Arena\n3185 Venetucci Blvd\nColorado Springs\nCO\n80906\nhttps://www.vettix.org/event/615652
DTSTART:20260531T190000
DTEND:20260531T190000
SUMMARY:Vet Tix Event: Navy Federal Jams 2026 Presents Kane Brown
URL;VALUE=URI:https://www.vettix.org/event/615652
DTSTAMP:20260424T130904
UID:69eba3b0b4cf7
END:VEVENT
END:VCALENDAR