BEGIN:VCALENDAR
VERSION:2.0
PRODID:-//vettix.org//NONSGML v1.0//EN
CALSCALE:GREGORIAN
BEGIN:VEVENT
LOCATION:Lucas Oil Stadium\, 500 South Capitol Avenue\, Indianapolis\, IN\, 46225
DESCRIPTION:Lucas Oil Stadium\n500 South Capitol Avenue\nIndianapolis\nIN\n46225\nhttps://www.vettix.org/event/577296
DTSTART:20260201T150000
DTEND:20260201T150000
SUMMARY:Vet Tix Event: Monster Jam
URL;VALUE=URI:https://www.vettix.org/event/577296
DTSTAMP:20260424T132351
UID:69eba72798d85
END:VEVENT
END:VCALENDAR