BEGIN:VCALENDAR
VERSION:2.0
PRODID:-//vettix.org//NONSGML v1.0//EN
CALSCALE:GREGORIAN
BEGIN:VEVENT
LOCATION:The Observatory North Park\, 2891 University Ave\, San Diego\, CA\, 92104
DESCRIPTION:The Observatory North Park\n2891 University Ave\nSan Diego\nCA\n92104\nhttps://www.vettix.org/event/551532
DTSTART:20250418T190000
DTEND:20250418T190000
SUMMARY:Vet Tix Event: Isabel LaRosa - Psychopomp Tour
URL;VALUE=URI:https://www.vettix.org/event/551532
DTSTAMP:20260425T120630
UID:69ece68645c4d
END:VEVENT
END:VCALENDAR