BEGIN:VCALENDAR
VERSION:2.0
PRODID:-//vettix.org//NONSGML v1.0//EN
CALSCALE:GREGORIAN
BEGIN:VEVENT
LOCATION:Mic Drop Comedy\, 8878 Clairemont Mesa Blvd\, San Diego\, CA\, 92123
DESCRIPTION:Mic Drop Comedy\n8878 Clairemont Mesa Blvd\nSan Diego\nCA\n92123\nhttps://www.vettix.org/event/551375
DTSTART:20250423T190000
DTEND:20250423T190000
SUMMARY:Vet Tix Event: Military Comedy Show
URL;VALUE=URI:https://www.vettix.org/event/551375
DTSTAMP:20260425T120637
UID:69ece68de5879
END:VEVENT
END:VCALENDAR