BEGIN:VCALENDAR
VERSION:2.0
PRODID:-//vettix.org//NONSGML v1.0//EN
CALSCALE:GREGORIAN
BEGIN:VEVENT
LOCATION:Frontwave Arena\, 3475 Hero Drive\, Oceanside\, CA\, 92056
DESCRIPTION:Frontwave Arena\n3475 Hero Drive\nOceanside\nCA\n92056\nhttps://www.vettix.org/event/550854
DTSTART:20250419T141000
DTEND:20250419T141000
SUMMARY:Vet Tix Event: Golden Boy Promotions Presents: Fundora vs. Badillo
URL;VALUE=URI:https://www.vettix.org/event/550854
DTSTAMP:20260425T120637
UID:69ece68d33494
END:VEVENT
END:VCALENDAR