BEGIN:VCALENDAR
VERSION:2.0
PRODID:-//vettix.org//NONSGML v1.0//EN
CALSCALE:GREGORIAN
BEGIN:VEVENT
LOCATION:Our Lady of the Lake University\, Thiry Auditorium\, 411 SW 24th St\, San Antonio\, TX\, 07827
DESCRIPTION:Our Lady of the Lake University\, Thiry Auditorium\n411 SW 24th St\nSan Antonio\nTX\n07827\nhttps://www.vettix.org/event/527883
DTSTART:20241221T140000
DTEND:20241221T140000
SUMMARY:Vet Tix Event: The Nutcracker
URL;VALUE=URI:https://www.vettix.org/event/527883
DTSTAMP:20260424T030928
UID:69eb1728909f8
END:VEVENT
END:VCALENDAR