BEGIN:VCALENDAR
VERSION:2.0
PRODID:-//vettix.org//NONSGML v1.0//EN
CALSCALE:GREGORIAN
BEGIN:VEVENT
LOCATION:The St. Augustine Amphitheatre\, 1340C A1A South \, St Augustine\, FL\, 32084
DESCRIPTION:The St. Augustine Amphitheatre\n1340C A1A South \nSt Augustine\nFL\n32084\nhttps://www.vettix.org/event/495860
DTSTART:20240608T193000
DTEND:20240608T193000
SUMMARY:Vet Tix Event: Billy Currington
URL;VALUE=URI:https://www.vettix.org/event/495860
DTSTAMP:20260424T041419
UID:69eb265bac268
END:VEVENT
END:VCALENDAR