BEGIN:VCALENDAR
VERSION:2.0
PRODID:-//vettix.org//NONSGML v1.0//EN
CALSCALE:GREGORIAN
BEGIN:VEVENT
LOCATION:Riverside County Fair & National Date Festival\, 46350 Arabia St\, Indio\, CA\, 92201
DESCRIPTION:Riverside County Fair & National Date Festival\n46350 Arabia St\nIndio\nCA\n92201\nhttps://www.vettix.org/event/476702
DTSTART:20240221T150000
DTEND:20240221T150000
SUMMARY:Vet Tix Event: Riverside County Fair & National Date Festival
URL;VALUE=URI:https://www.vettix.org/event/476702
DTSTAMP:20260425T125325
UID:69ecf1859687c
END:VEVENT
END:VCALENDAR