BEGIN:VCALENDAR
VERSION:2.0
PRODID:-//vettix.org//NONSGML v1.0//EN
CALSCALE:GREGORIAN
BEGIN:VEVENT
LOCATION:Phoenix Symphony Hall\, 75 N 2nd St\, Phoenix\, AZ\, 85004
DESCRIPTION:Phoenix Symphony Hall\n75 N 2nd St\nPhoenix\nAZ\n85004\nhttps://www.vettix.org/event/469335
DTSTART:20231210T173000
DTEND:20231210T173000
SUMMARY:Vet Tix Event: The Nutcracker
URL;VALUE=URI:https://www.vettix.org/event/469335
DTSTAMP:20260424T083101
UID:69eb6285cbc45
END:VEVENT
END:VCALENDAR