BEGIN:VCALENDAR
VERSION:2.0
PRODID:-//vettix.org//NONSGML v1.0//EN
CALSCALE:GREGORIAN
BEGIN:VEVENT
LOCATION:Chrysler Hall\, 215 Saint Pauls Blvd\, Norfolk\, VA\, 23510
DESCRIPTION:Chrysler Hall\n215 Saint Pauls Blvd\nNorfolk\nVA\n23510\nhttps://www.vettix.org/event/42413
DTSTART:20161202T190000
DTEND:20161202T190000
SUMMARY:Vet Tix Event: The Nutcracker performed by Richmond Ballet
URL;VALUE=URI:https://www.vettix.org/event/42413
DTSTAMP:20260423T114618
UID:69ea3eca3048b
END:VEVENT
END:VCALENDAR