BEGIN:VCALENDAR
VERSION:2.0
PRODID:-//vettix.org//NONSGML v1.0//EN
CALSCALE:GREGORIAN
BEGIN:VEVENT
LOCATION:Jordan High School\, 6500 Atlantic Ave\, Long Beach\, CA\, 90805
DESCRIPTION:Jordan High School\n6500 Atlantic Ave\nLong Beach\nCA\n90805\nhttps://www.vettix.org/event/421826
DTSTART:20221211T140000
DTEND:20221211T140000
SUMMARY:Vet Tix Event: The Nutcracker
URL;VALUE=URI:https://www.vettix.org/event/421826
DTSTAMP:20260424T033957
UID:69eb1e4decbb4
END:VEVENT
END:VCALENDAR