BEGIN:VCALENDAR
VERSION:2.0
PRODID:-//vettix.org//NONSGML v1.0//EN
CALSCALE:GREGORIAN
BEGIN:VEVENT
LOCATION:Phoenix Symphony Hall\, 75 N 2nd St\, Phoenix\, AZ\, 85004
DESCRIPTION:Phoenix Symphony Hall\n75 N 2nd St\nPhoenix\nAZ\n85004\nhttps://www.vettix.org/event/406847
DTSTART:20221029T193000
DTEND:20221029T193000
SUMMARY:Vet Tix Event: Hocus Pocus in Concert Live to Film
URL;VALUE=URI:https://www.vettix.org/event/406847
DTSTAMP:20260424T054934
UID:69eb3cae86332
END:VEVENT
END:VCALENDAR