BEGIN:VCALENDAR
VERSION:2.0
PRODID:-//vettix.org//NONSGML v1.0//EN
CALSCALE:GREGORIAN
BEGIN:VEVENT
LOCATION:Joe's on Weed St.\, 940 W Weed St\, Chicago\, IL\, 60642
DESCRIPTION:Joe's on Weed St.\n940 W Weed St\nChicago\nIL\n60642\nhttps://www.vettix.org/event/387896
DTSTART:20221110T194500
DTEND:20221110T194500
SUMMARY:Vet Tix Event: Jon Wolfe
URL;VALUE=URI:https://www.vettix.org/event/387896
DTSTAMP:20260424T042622
UID:69eb292ee1a7c
END:VEVENT
END:VCALENDAR