BEGIN:VCALENDAR
VERSION:2.0
PRODID:-//vettix.org//NONSGML v1.0//EN
CALSCALE:GREGORIAN
BEGIN:VEVENT
LOCATION:Mountaineer Field at Milan Puskar Stadium\, 1 Ira Errett Rodgers Dr\, Morgantown\, WV\, 26505
DESCRIPTION:Mountaineer Field at Milan Puskar Stadium\n1 Ira Errett Rodgers Dr\nMorgantown\nWV\n26505\nhttps://www.vettix.org/event/387126
DTSTART:20220917T130000
DTEND:20220917T130000
SUMMARY:Vet Tix Event: West Virginia Mountaineers - NCAA Football vs Towson University
URL;VALUE=URI:https://www.vettix.org/event/387126
DTSTAMP:20260424T131336
UID:69eba4c06eaac
END:VEVENT
END:VCALENDAR