BEGIN:VCALENDAR
VERSION:2.0
PRODID:-//vettix.org//NONSGML v1.0//EN
CALSCALE:GREGORIAN
BEGIN:VEVENT
LOCATION:Backstage Bar and Billiards\, 601 Fremont St\, Las Vegas\, NV\, 89101
DESCRIPTION:Backstage Bar and Billiards\n601 Fremont St\nLas Vegas\nNV\n89101\nhttps://www.vettix.org/event/35351
DTSTART:20160618T200000
DTEND:20160618T200000
SUMMARY:Vet Tix Event: Freakshow Wrestling
URL;VALUE=URI:https://www.vettix.org/event/35351
DTSTAMP:20260424T131336
UID:69eba4c023ea4
END:VEVENT
END:VCALENDAR