BEGIN:VCALENDAR
VERSION:2.0
PRODID:-//vettix.org//NONSGML v1.0//EN
CALSCALE:GREGORIAN
BEGIN:VEVENT
LOCATION:Radio City Music Hall\, 1260 6th Avenue\, New York\, NY\, 10020
DESCRIPTION:Radio City Music Hall\n1260 6th Avenue\nNew York\nNY\n10020\nhttps://www.vettix.org/event/291201
DTSTART:20211109T140000
DTEND:20211109T140000
SUMMARY:Vet Tix Event: Christmas Spectacular Starring the Radio City Rockettes
URL;VALUE=URI:https://www.vettix.org/event/291201
DTSTAMP:20260423T114618
UID:69ea3eca638eb
END:VEVENT
END:VCALENDAR