BEGIN:VCALENDAR
VERSION:2.0
PRODID:-//vettix.org//NONSGML v1.0//EN
CALSCALE:GREGORIAN
BEGIN:VEVENT
LOCATION:Lenovo Center\, 1400 Edwards Mill Road\, Raleigh\, NC\, 27607
DESCRIPTION:Lenovo Center\n1400 Edwards Mill Road\nRaleigh\nNC\n27607\nhttps://www.vettix.org/event/28986
DTSTART:20151112T190000
DTEND:20151112T190000
SUMMARY:Vet Tix Event: Carolina Hurricanes vs. Minnesota Wild - NHL - Military Appreciation Night
URL;VALUE=URI:https://www.vettix.org/event/28986
DTSTAMP:20260423T051724
UID:69e9e3a47a428
END:VEVENT
END:VCALENDAR