BEGIN:VCALENDAR
VERSION:2.0
PRODID:-//vettix.org//NONSGML v1.0//EN
CALSCALE:GREGORIAN
BEGIN:VEVENT
LOCATION:Mortgage Matchup Center\, 201 East Jefferson Street\, Phoenix\, AZ\, 85004
DESCRIPTION:Mortgage Matchup Center\n201 East Jefferson Street\nPhoenix\nAZ\n85004\nhttps://www.vettix.org/event/21597
DTSTART:20150309T190000
DTEND:20150309T190000
SUMMARY:Vet Tix Event: Phoenix Suns vs. Golden State Warriors - NBA - Suite Tickets
URL;VALUE=URI:https://www.vettix.org/event/21597
DTSTAMP:20260425T132437
UID:69ecf8d5628e7
END:VEVENT
END:VCALENDAR