BEGIN:VCALENDAR
VERSION:2.0
PRODID:-//vettix.org//NONSGML v1.0//EN
CALSCALE:GREGORIAN
BEGIN:VEVENT
LOCATION:Tomball High School Theatre\, 30330 Quinn Rd\, Tomball\, TX\, 77375
DESCRIPTION:Tomball High School Theatre\n30330 Quinn Rd\nTomball\nTX\n77375\nhttps://www.vettix.org/event/18545
DTSTART:20141207T130000
DTEND:20141207T130000
SUMMARY:Vet Tix Event: The Nutcracker performed by Houston Repertoire Ballet
URL;VALUE=URI:https://www.vettix.org/event/18545
DTSTAMP:20260423T115307
UID:69ea406394f8b
END:VEVENT
END:VCALENDAR