BEGIN:VCALENDAR
VERSION:2.0
PRODID:-//vettix.org//NONSGML v1.0//EN
CALSCALE:GREGORIAN
BEGIN:VEVENT
LOCATION:Grand Lodge Waterpark Resort\, 805 Creske Ave.\, Rothschild\, WI\, 54474
DESCRIPTION:Grand Lodge Waterpark Resort\n805 Creske Ave.\nRothschild\nWI\n54474\nhttps://www.vettix.org/event/17284
DTSTART:20141003T000000
DTEND:20141003T000000
SUMMARY:Vet Tix Event: Grand Lodge Waterpark Resort
URL;VALUE=URI:https://www.vettix.org/event/17284
DTSTAMP:20260424T131335
UID:69eba4bfdce85
END:VEVENT
END:VCALENDAR